BEGIN:VCALENDAR
VERSION:2.0
PRODID:http://www.msecm.com
METHOD:PUBLISH
BEGIN:VEVENT
UID:20258657
ORGANIZER;CN="MSECM Austria Martin Heger":MAILTO:events@msecm.at
LOCATION:Aqua Nova Wiener Neustadt F.-Graf-v.-Zeppelin-Straße 12 2700 Wr. Neustadt
SUMMARY:16. NÖ Kids Cup 2022/2023 - 3. Runde
DESCRIPTION:<!-- <font color="red">Entwurf  08.11.2019 2029</font> --> <!-- <ul class="fa-ul"> <li><i class="fa-li fa fa-external-link-square"></i><font color="red">WICHTIGE INFORMATIONEN</font></li> <ul class="fa-ul"> <li><i class="fa-li fa fa-external-link-square color-green"></i><a class="hover-effect" href="/events/noekidscup2111/COVID-19-Pr%C3%A4ventionskonzept%2015_NOE%20Kids-Cup_2021_Wr%20Neustadt.pdf" target="_blank">COVID-19 Konzept</a></li>  <li><i class="fa-li fa fa-external-link-square color-green"></i><a class="hover-effect" href="/events/noekidscup2111/Formular%20NOE_Kids-Cup_Wr%20Neustadt.docx" target="_blank">Check Formular (DOCX)</a></li>  </ul> </li> </ul> -->
CLASS:PUBLIC
DTSTART:20230225T000000
DTEND:20230225T235959
DTSTAMP:20260423T132628 +0200
END:VEVENT
CALSCALE:GREGORIAN
END:VCALENDAR
